BEGIN:VCALENDAR
VERSION:2.0
PRODID:-//Jenn Gulbrand - ECPv6.15.15//NONSGML v1.0//EN
CALSCALE:GREGORIAN
METHOD:PUBLISH
X-ORIGINAL-URL:https://jenngulbrand.com
X-WR-CALDESC:Events for Jenn Gulbrand
REFRESH-INTERVAL;VALUE=DURATION:PT1H
X-Robots-Tag:noindex
X-PUBLISHED-TTL:PT1H
BEGIN:VTIMEZONE
TZID:America/New_York
BEGIN:DAYLIGHT
TZOFFSETFROM:-0500
TZOFFSETTO:-0400
TZNAME:EDT
DTSTART:20240310T070000
END:DAYLIGHT
BEGIN:STANDARD
TZOFFSETFROM:-0400
TZOFFSETTO:-0500
TZNAME:EST
DTSTART:20241103T060000
END:STANDARD
BEGIN:DAYLIGHT
TZOFFSETFROM:-0500
TZOFFSETTO:-0400
TZNAME:EDT
DTSTART:20250309T070000
END:DAYLIGHT
BEGIN:STANDARD
TZOFFSETFROM:-0400
TZOFFSETTO:-0500
TZNAME:EST
DTSTART:20251102T060000
END:STANDARD
BEGIN:DAYLIGHT
TZOFFSETFROM:-0500
TZOFFSETTO:-0400
TZNAME:EDT
DTSTART:20260308T070000
END:DAYLIGHT
BEGIN:STANDARD
TZOFFSETFROM:-0400
TZOFFSETTO:-0500
TZNAME:EST
DTSTART:20261101T060000
END:STANDARD
END:VTIMEZONE
BEGIN:VEVENT
DTSTART;TZID=America/New_York:20250315T130000
DTEND;TZID=America/New_York:20250315T150000
DTSTAMP:20260424T121940
CREATED:20250221T131005Z
LAST-MODIFIED:20250309T121631Z
UID:10000023-1742043600-1742050800@jenngulbrand.com
SUMMARY:Spiritual Table Tipping Experience (Mar 15)
DESCRIPTION:Join us for an enlightening afternoon as we explore Spiritual Table Tipping\, a powerful and transformative practice for connecting with your Spirit Guides\, Guardian Angels\, and Loved Ones who have passed. This healing modality offers profound insights\, comfort\, and guidance on physical\, emotional\, and spiritual levels. \nWhat to Expect: \nDuring this session\, the table becomes a medium for communication with the spiritual realm. Through energy\, spirits respond by tipping the table: \n\nOnce for “no”\nTwice for “yes”\n\nThis simple yet powerful form of communication opens the door to deeper understanding and healing. \nBenefits of Spiritual Table Tipping: \nHealing & Comfort: Connect with loved ones and spirit guides for emotional and spiritual peace. \n\nGuidance & Clarity: Receive answers to pressing questions about your life path\, relationships\, and areas where you feel stuck. \n\nEnhanced Relationships: Discover insights to nurture your personal connections\, career\, and overall well-being. \n\nInsight into the Afterlife: Learn how your deceased loved ones and pets are doing and how they continue to grow spiritually. \nWhy Attend? \nThis unique experience supports your soul’s development and enlightenment. It’s an opportunity to: \n\nGain clarity about whether you’re on the right path and how to overcome blocks.\nLearn valuable insights to help you grow personally and spiritually.\nFeel the comfort of knowing your loved ones are still with you and supporting your journey.\n\nRegistration: $44 per person\nLimited to 16 People – Advance Registration Required \nDon’t miss this opportunity to connect with the healing energy of the spiritual realm. Reserve your spot now and let the wisdom of spirit guide you toward a more fulfilling and enlightened life.
URL:https://jenngulbrand.com/event/spiritual-table-tipping-experience-mar-15/
LOCATION:WeBreathe Wellness\, 55 West Street\, Walpole
CATEGORIES:Workshops
END:VEVENT
BEGIN:VEVENT
DTSTART;TZID=America/New_York:20250323T130000
DTEND;TZID=America/New_York:20250323T170000
DTSTAMP:20260424T121940
CREATED:20250222T190526Z
LAST-MODIFIED:20250222T190756Z
UID:10000026-1742734800-1742749200@jenngulbrand.com
SUMMARY:Usui/Holy Fire® Reiki II Training
DESCRIPTION:Are you feeling called to expand your connection to the higher frequency vibration of Reiki energy? We invite you to take the next step in your healing journey with our Reiki II Usui/Holy Fire® Training\, guided by Certified Reiki Master Teacher Jenn Gulbrand. \nThis intimate and transformative course is designed to help you deepen your practice\, enhance your energy work\, and build confidence as you integrate new techniques for both self and shared healing. \nWhat You’ll Experience: \n\nPowerful Reiki meditations to further connect with your inner knowing.\nHoly Fire® Reiki Placement & Certification to enhance your energy practice.\nTechniques for breaking up blocked energy to promote balance and homeostasis.\nHands-on practice giving and receiving Reiki with classmates.\n\nYou’ll leave feeling empowered with advanced Reiki skills and a renewed sense of confidence in your ability to facilitate healing and well-being for yourself and others. \nWhat to Bring: \n\nDress comfortably.\nYoga mat\, blanket\, water bottle\, and a pen/journal or notebook for notes.\n\nImportant Details: \n\nPre-requisite: Avoid alcohol or substances 48 hours before; drink extra water to prepare.\nInvestment: $275 (Includes a Comprehensive Manual and Reiki II Certification).\n\nStep into this next level of Reiki mastery and align with the transformative power of Holy Fire® energy. \nReserve your space today and continue your journey of healing and self-discovery
URL:https://jenngulbrand.com/event/usui-holy-fire-reiki-ii-training-2/
LOCATION:WeBreathe Wellness\, 55 West Street\, Walpole
CATEGORIES:Trainings
ATTACH;FMTTYPE=image/jpeg:https://jenngulbrand.com/wp-content/uploads/2025/02/Jenns-Workshops-1.jpg
END:VEVENT
END:VCALENDAR