BEGIN:VCALENDAR
VERSION:2.0
PRODID:-//Jenn Gulbrand - ECPv6.15.15//NONSGML v1.0//EN
CALSCALE:GREGORIAN
METHOD:PUBLISH
X-WR-CALNAME:Jenn Gulbrand
X-ORIGINAL-URL:https://jenngulbrand.com
X-WR-CALDESC:Events for Jenn Gulbrand
REFRESH-INTERVAL;VALUE=DURATION:PT1H
X-Robots-Tag:noindex
X-PUBLISHED-TTL:PT1H
BEGIN:VTIMEZONE
TZID:America/New_York
BEGIN:DAYLIGHT
TZOFFSETFROM:-0500
TZOFFSETTO:-0400
TZNAME:EDT
DTSTART:20240310T070000
END:DAYLIGHT
BEGIN:STANDARD
TZOFFSETFROM:-0400
TZOFFSETTO:-0500
TZNAME:EST
DTSTART:20241103T060000
END:STANDARD
BEGIN:DAYLIGHT
TZOFFSETFROM:-0500
TZOFFSETTO:-0400
TZNAME:EDT
DTSTART:20250309T070000
END:DAYLIGHT
BEGIN:STANDARD
TZOFFSETFROM:-0400
TZOFFSETTO:-0500
TZNAME:EST
DTSTART:20251102T060000
END:STANDARD
BEGIN:DAYLIGHT
TZOFFSETFROM:-0500
TZOFFSETTO:-0400
TZNAME:EDT
DTSTART:20260308T070000
END:DAYLIGHT
BEGIN:STANDARD
TZOFFSETFROM:-0400
TZOFFSETTO:-0500
TZNAME:EST
DTSTART:20261101T060000
END:STANDARD
END:VTIMEZONE
BEGIN:VEVENT
DTSTART;TZID=America/New_York:20250215T080000
DTEND;TZID=America/New_York:20250215T120000
DTSTAMP:20260424T134606
CREATED:20241217T215403Z
LAST-MODIFIED:20250121T190215Z
UID:10000013-1739606400-1739620800@jenngulbrand.com
SUMMARY:Usui/Holy Fire® Reiki I Training
DESCRIPTION:Have you felt called to access the transformative energy of Reiki? Now is the time to explore this powerful practice! WeBreathe Wellness is excited to offer Reiki I Usui/Holy Fire® Training\, led by Studio Owner and Certified Reiki Master Teacher\, Jenn Gulbrand. \nThis immersive training will guide you on a journey to connect with the higher frequency vibration of Reiki energy and empower you with tools for self-healing and helping others. \nWhat You’ll Experience: \n\nDeep Reiki meditations to connect with your inner knowing.\nA Holy Fire® Reiki placement/attunement to align you with the healing energy.\nTechniques to identify and break up blocked energy\, promoting balance and homeostasis in the body.\nHands-on practice giving and receiving Reiki with classmates.\n\nWalk away feeling empowered\, confident\, and equipped with new skills for both personal and shared healing. \nWhat to Bring: \n\nDress comfortably.\nBring a water bottle and pen/paper for notes.\n\nImportant Details: \n\nPre-requisite: Avoid alcohol or substances 48 hours prior; drink extra water to prepare your body.\nInvestment: $275 (Includes a Comprehensive Manual and Reiki I Certification).\n\nStep into this powerful healing modality and unlock a deeper connection with your own energy and intuition. \nReserve your spot today and begin your Reiki journey!
URL:https://jenngulbrand.com/event/usui-holy-fire-reiki-i-training/
LOCATION:WeBreathe Wellness\, 55 West Street\, Walpole
CATEGORIES:Trainings
ATTACH;FMTTYPE=image/jpeg:https://jenngulbrand.com/wp-content/uploads/2024/12/Jenns-Workshops-1-1.jpg
END:VEVENT
BEGIN:VEVENT
DTSTART;TZID=America/New_York:20250215T130000
DTEND;TZID=America/New_York:20250215T170000
DTSTAMP:20260424T134606
CREATED:20241217T215625Z
LAST-MODIFIED:20250121T190314Z
UID:10000014-1739624400-1739638800@jenngulbrand.com
SUMMARY:Usui/Holy Fire® Reiki II Training
DESCRIPTION:Are you feeling called to expand your connection to the higher frequency vibration of Reiki energy? We invite you to take the next step in your healing journey with our Reiki II Usui/Holy Fire® Training\, guided by Certified Reiki Master Teacher Jenn Gulbrand. \nThis intimate and transformative course is designed to help you deepen your practice\, enhance your energy work\, and build confidence as you integrate new techniques for both self and shared healing. \nWhat You’ll Experience: \n\nPowerful Reiki meditations to further connect with your inner knowing.\nHoly Fire® Reiki Placement & Certification to enhance your energy practice.\nTechniques for breaking up blocked energy to promote balance and homeostasis.\nHands-on practice giving and receiving Reiki with classmates.\n\nYou’ll leave feeling empowered with advanced Reiki skills and a renewed sense of confidence in your ability to facilitate healing and well-being for yourself and others. \nWhat to Bring: \n\nDress comfortably.\nYoga mat\, blanket\, water bottle\, and a pen/journal or notebook for notes.\n\nImportant Details: \n\nPre-requisite: Avoid alcohol or substances 48 hours before; drink extra water to prepare.\nInvestment: $275 (Includes a Comprehensive Manual and Reiki II Certification).\n\nStep into this next level of Reiki mastery and align with the transformative power of Holy Fire® energy. \nReserve your space today and continue your journey of healing and self-discovery
URL:https://jenngulbrand.com/event/usui-holy-fire-reiki-ii-training/
LOCATION:WeBreathe Wellness\, 55 West Street\, Walpole
CATEGORIES:Trainings
ATTACH;FMTTYPE=image/jpeg:https://jenngulbrand.com/wp-content/uploads/2024/12/Jenns-Workshops-1-1.jpg
END:VEVENT
BEGIN:VEVENT
DTSTART;TZID=America/New_York:20250216T090000
DTEND;TZID=America/New_York:20250216T120000
DTSTAMP:20260424T134606
CREATED:20250121T183013Z
LAST-MODIFIED:20250121T190419Z
UID:10000020-1739696400-1739707200@jenngulbrand.com
SUMMARY:Sacred Sound Healing Training
DESCRIPTION:As the pace of life quickens and uncertainty grows\, the need for balance and well-being has never been more important. Sound Therapy is emerging as a powerful tool for healing and transformation\, offering profound benefits for both the body and mind. \nA Sound Bath is an immersive acoustic experience that relaxes the body\, clears the subconscious\, calms the mind\, and activates the body’s natural healing systems. Whether for self-care or as part of your professional energy practice\, sound healing is a versatile modality that can be used on its own or paired with practices like Reiki\, yoga\, massage\, or meditation. \nThis transformative sound healing practitioner training is led by Jenn Gulbrand\, owner of the WeBreathe Wellness Center\, a Spiritual Well-Being Coach and Integrated Energy Healer dedicated to empowering others to heal and thrive. \nWhat You’ll Learn: \n\nThe sacred history and foundational principles of sound and energy healing.\nThe healing power of sound and vibration\, and how energy works within the body.\nAn introduction to sound instruments\, including care tips and sourcing guidanceHands-on practice playing crystal bowls\, gongs\, and other sound tools.\nTechniques for creating your own unique sound healing journeys.\n\nThis workshop includes: \n\nComprehensive training with hands-on practice.\nA detailed workbook to support your continued learning.\nTools and techniques to incorporate sound healing into your personal or professional practice.\n\nInvestment: $444\nClass Size Limited for personalized attention \nUnlock the power of sound to bring balance\, relaxation\, and healing to yourself and others. Reserve your spot today and begin your journey into the transformative world of sound healing.
URL:https://jenngulbrand.com/event/sacred-sound-healing-training-2/
LOCATION:WeBreathe Wellness\, 55 West Street\, Walpole
CATEGORIES:Trainings,Workshops
ATTACH;FMTTYPE=image/png:https://jenngulbrand.com/wp-content/uploads/2025/01/JG-sound-healing-training-1.png
END:VEVENT
END:VCALENDAR