BEGIN:VCALENDAR
VERSION:2.0
PRODID:-//Jenn Gulbrand - ECPv6.15.15//NONSGML v1.0//EN
CALSCALE:GREGORIAN
METHOD:PUBLISH
X-ORIGINAL-URL:https://jenngulbrand.com
X-WR-CALDESC:Events for Jenn Gulbrand
REFRESH-INTERVAL;VALUE=DURATION:PT1H
X-Robots-Tag:noindex
X-PUBLISHED-TTL:PT1H
BEGIN:VTIMEZONE
TZID:America/New_York
BEGIN:DAYLIGHT
TZOFFSETFROM:-0500
TZOFFSETTO:-0400
TZNAME:EDT
DTSTART:20250309T070000
END:DAYLIGHT
BEGIN:STANDARD
TZOFFSETFROM:-0400
TZOFFSETTO:-0500
TZNAME:EST
DTSTART:20251102T060000
END:STANDARD
BEGIN:DAYLIGHT
TZOFFSETFROM:-0500
TZOFFSETTO:-0400
TZNAME:EDT
DTSTART:20260308T070000
END:DAYLIGHT
BEGIN:STANDARD
TZOFFSETFROM:-0400
TZOFFSETTO:-0500
TZNAME:EST
DTSTART:20261101T060000
END:STANDARD
BEGIN:DAYLIGHT
TZOFFSETFROM:-0500
TZOFFSETTO:-0400
TZNAME:EDT
DTSTART:20270314T070000
END:DAYLIGHT
BEGIN:STANDARD
TZOFFSETFROM:-0400
TZOFFSETTO:-0500
TZNAME:EST
DTSTART:20271107T060000
END:STANDARD
END:VTIMEZONE
BEGIN:VEVENT
DTSTART;TZID=America/New_York:20260215T130000
DTEND;TZID=America/New_York:20260215T150000
DTSTAMP:20260421T000351
CREATED:20260123T164250Z
LAST-MODIFIED:20260126T232313Z
UID:10001128-1771160400-1771167600@jenngulbrand.com
SUMMARY:Lunar New Year - New Moon Healing Circle
DESCRIPTION:Lunar New Year – New Moon Healing Circle\nSoundbath • Meditation • Intention Setting \nSunday\, February 15| 1:00–3:00 PMSoul Alignment Studios3 Main Street\, Suite 18BEastham\, MA 02642 \nThe New Moon on February 17th marks the beginning of a new lunar cycle — a quiet\, potent moment to pause\, turn inward\, and plant seeds for what’s ready to grow. \nThis New Moon Healing Circle is a nurturing\, heart-centered gathering created to help you slow down\, regulate your nervous system\, and reconnect with your inner wisdom. Rather than pushing for clarity or change\, we’ll create space for insight to arise naturally — in its own time. \nThrough guided meditation\, reflective practices\, and a deeply restorative soundbath\, you’ll be invited to release what feels complete and gently set intentions aligned with where you are now\, not where you think you should be. \nThis is not about fixing yourself.It’s about listening more deeply.Softening into stillness.And allowing new possibilities to take root 🌙 \n✨ What to Expect:\n• Grounding guided meditation• Immersive crystal bowl soundbath• Reiki energy healing• New Moon intention setting• Intuitive card pulling for insight and reflection• Gentle\, optional sharing circle 🤍 \nCome exactly as you are.Leave feeling lighter\, clearer\, and more connected to yourself. \n✨ Reserve your spot:https://jenngulbrand.com/events/ \nNo experience is necessary. Come exactly as you are.\n$66 per person\nSpace is limited to 6
URL:https://jenngulbrand.com/event/new-moon-healing-circle-feb-2026/
LOCATION:MA
CATEGORIES:Soul Alignment Studios
ATTACH;FMTTYPE=image/png:https://jenngulbrand.com/wp-content/uploads/2026/01/Moon-Glow-Manifesting-Ceremonies-2.png
END:VEVENT
END:VCALENDAR