BEGIN:VCALENDAR
VERSION:2.0
PRODID:-//Jenn Gulbrand - ECPv6.15.15//NONSGML v1.0//EN
CALSCALE:GREGORIAN
METHOD:PUBLISH
X-WR-CALNAME:Jenn Gulbrand
X-ORIGINAL-URL:https://jenngulbrand.com
X-WR-CALDESC:Events for Jenn Gulbrand
REFRESH-INTERVAL;VALUE=DURATION:PT1H
X-Robots-Tag:noindex
X-PUBLISHED-TTL:PT1H
BEGIN:VTIMEZONE
TZID:America/New_York
BEGIN:DAYLIGHT
TZOFFSETFROM:-0500
TZOFFSETTO:-0400
TZNAME:EDT
DTSTART:20250309T070000
END:DAYLIGHT
BEGIN:STANDARD
TZOFFSETFROM:-0400
TZOFFSETTO:-0500
TZNAME:EST
DTSTART:20251102T060000
END:STANDARD
BEGIN:DAYLIGHT
TZOFFSETFROM:-0500
TZOFFSETTO:-0400
TZNAME:EDT
DTSTART:20260308T070000
END:DAYLIGHT
BEGIN:STANDARD
TZOFFSETFROM:-0400
TZOFFSETTO:-0500
TZNAME:EST
DTSTART:20261101T060000
END:STANDARD
BEGIN:DAYLIGHT
TZOFFSETFROM:-0500
TZOFFSETTO:-0400
TZNAME:EDT
DTSTART:20270314T070000
END:DAYLIGHT
BEGIN:STANDARD
TZOFFSETFROM:-0400
TZOFFSETTO:-0500
TZNAME:EST
DTSTART:20271107T060000
END:STANDARD
END:VTIMEZONE
BEGIN:VEVENT
DTSTART;TZID=America/New_York:20260117T130000
DTEND;TZID=America/New_York:20260117T143000
DTSTAMP:20260422T034127
CREATED:20251226T144332Z
LAST-MODIFIED:20251226T144332Z
UID:10001127-1768654800-1768660200@jenngulbrand.com
SUMMARY:New Moon Healing Circle - Soundbath\, Meditation\, Intention Setting
DESCRIPTION:New Moon Healing Circle – Soundbath • Meditation • Intention Setting \nSaturday\, January 17 | 1:00–3:00 PM\nSoul Alignment Studios – 3 Main Street\, Suite 18B Eastham\, MA 02642\n\nThe New Moon is a powerful time to slow down\, reset\, and turn inward.\n\nThis New Moon Healing Circle is a supportive\, heart-centered gathering designed to help you calm your nervous system\, reflect on where you are\, and gently set intentions for the new lunar cycle ahead.\n\nTogether\, we’ll move through guided meditation\, reflective practices\, and a deeply restorative soundbath\, creating space to release what no longer serves and reconnect with your inner wisdom.\n\nThis is not about fixing or forcing change.\nIt’s about listening\, softening\, and allowing clarity to emerge naturally.\n\n✨ What to expect:\n\nGrounding guided meditation\nImmersive crystal bowl soundbath\nReiki energy healing\nNew Moon intention setting\nIntuitive card pulling for insight and reflection\nGentle sharing circle (always optional)\n\nNo experience is necessary. Come exactly as you are.\n$66 per person\nSpace is limited to 6
URL:https://jenngulbrand.com/event/new-moon-healing-circle-soundbath-meditation-intention-setting/
LOCATION:Soul Alignment Studio (Eastham\, MA)\, 3 Main Street Mercantile\, Suite 18B\, Eastham\, MA\, 02642\, United States
CATEGORIES:Soul Alignment Studios
ATTACH;FMTTYPE=image/png:https://jenngulbrand.com/wp-content/uploads/2025/12/Soul-Alignment-Studios-Offerings-45-Templates-1.png
END:VEVENT
END:VCALENDAR