BEGIN:VCALENDAR
VERSION:2.0
PRODID:-//Jenn Gulbrand - ECPv6.15.15//NONSGML v1.0//EN
CALSCALE:GREGORIAN
METHOD:PUBLISH
X-ORIGINAL-URL:https://jenngulbrand.com
X-WR-CALDESC:Events for Jenn Gulbrand
REFRESH-INTERVAL;VALUE=DURATION:PT1H
X-Robots-Tag:noindex
X-PUBLISHED-TTL:PT1H
BEGIN:VTIMEZONE
TZID:America/New_York
BEGIN:DAYLIGHT
TZOFFSETFROM:-0500
TZOFFSETTO:-0400
TZNAME:EDT
DTSTART:20240310T070000
END:DAYLIGHT
BEGIN:STANDARD
TZOFFSETFROM:-0400
TZOFFSETTO:-0500
TZNAME:EST
DTSTART:20241103T060000
END:STANDARD
BEGIN:DAYLIGHT
TZOFFSETFROM:-0500
TZOFFSETTO:-0400
TZNAME:EDT
DTSTART:20250309T070000
END:DAYLIGHT
BEGIN:STANDARD
TZOFFSETFROM:-0400
TZOFFSETTO:-0500
TZNAME:EST
DTSTART:20251102T060000
END:STANDARD
BEGIN:DAYLIGHT
TZOFFSETFROM:-0500
TZOFFSETTO:-0400
TZNAME:EDT
DTSTART:20260308T070000
END:DAYLIGHT
BEGIN:STANDARD
TZOFFSETFROM:-0400
TZOFFSETTO:-0500
TZNAME:EST
DTSTART:20261101T060000
END:STANDARD
END:VTIMEZONE
BEGIN:VEVENT
DTSTART;TZID=America/New_York:20251219T180000
DTEND;TZID=America/New_York:20251219T193000
DTSTAMP:20260422T053027
CREATED:20251206T202928Z
LAST-MODIFIED:20251206T205137Z
UID:10001125-1766167200-1766172600@jenngulbrand.com
SUMMARY:New Moon Pre-Holiday Pop-Up - Yoga\, Soundbath\, Reiki Healing Circle
DESCRIPTION:Join us for a soul-nourishing evening under the New Moon on Friday\, December 19th at 6:00 PM at Tula+ Yoga in Eastham\, MA for a special Pre-Holiday Healing Circle led by Jenn Gulbrand and Karen Bain.\nThis intimate gathering is an invitation to slow down\, soften your body\, and reset your spirit before the busyness of the holidays takes over. \n🖤 What You’ll Experience:\n🌿 Gentle Restorative Yoga to ease tension and relax your nervous system\n🎶 Sound Bath + Guided Meditation with crystal bowls\, gong\, and chimes\n💖 Reiki Healing Circle with hands-on energy work to restore balance and calm\n🌙 New Moon Energy to release what’s complete and set intentions for what’s next\n✨ Collective Healing in a safe\, grounded space \nThis evening is about returning to yourself — grounding your energy\, calming your mind\, and opening your heart as we prepare to step into the season ahead with clarity and peace. \nFriday\, December 19th 🕕 6:00 – 7:30 PM\nTula+ Yoga | Eastham\, MA\nInvestment: $66 \n✨ Space is limited for this special gathering. Reserve your spot now — link in bio / DM for details.\nCome as you are. Leave lighter. 💛
URL:https://jenngulbrand.com/event/new-moon-pre-holiday-pop-up-yoga-soundbath-reiki-healing-circle/
LOCATION:MA
END:VEVENT
END:VCALENDAR