BEGIN:VCALENDAR
VERSION:2.0
PRODID:-//Jenn Gulbrand - ECPv6.15.15//NONSGML v1.0//EN
CALSCALE:GREGORIAN
METHOD:PUBLISH
X-ORIGINAL-URL:https://jenngulbrand.com
X-WR-CALDESC:Events for Jenn Gulbrand
REFRESH-INTERVAL;VALUE=DURATION:PT1H
X-Robots-Tag:noindex
X-PUBLISHED-TTL:PT1H
BEGIN:VTIMEZONE
TZID:America/New_York
BEGIN:DAYLIGHT
TZOFFSETFROM:-0500
TZOFFSETTO:-0400
TZNAME:EDT
DTSTART:20240310T070000
END:DAYLIGHT
BEGIN:STANDARD
TZOFFSETFROM:-0400
TZOFFSETTO:-0500
TZNAME:EST
DTSTART:20241103T060000
END:STANDARD
BEGIN:DAYLIGHT
TZOFFSETFROM:-0500
TZOFFSETTO:-0400
TZNAME:EDT
DTSTART:20250309T070000
END:DAYLIGHT
BEGIN:STANDARD
TZOFFSETFROM:-0400
TZOFFSETTO:-0500
TZNAME:EST
DTSTART:20251102T060000
END:STANDARD
BEGIN:DAYLIGHT
TZOFFSETFROM:-0500
TZOFFSETTO:-0400
TZNAME:EDT
DTSTART:20260308T070000
END:DAYLIGHT
BEGIN:STANDARD
TZOFFSETFROM:-0400
TZOFFSETTO:-0500
TZNAME:EST
DTSTART:20261101T060000
END:STANDARD
END:VTIMEZONE
BEGIN:VEVENT
DTSTART;TZID=America/New_York:20251002T180000
DTEND;TZID=America/New_York:20251002T190000
DTSTAMP:20260422T082804
CREATED:20251002T205140Z
LAST-MODIFIED:20251002T205142Z
UID:10000552-1759428000-1759431600@jenngulbrand.com
SUMMARY:Breathwork Breakthrough Experience (Weekly on Thursdays)
DESCRIPTION:Breathwork Breakthrough Experience \nWeekly on Thursdays | 6:00 PM | 60 Minutes\nSoul Alignment Studios\n$44 per person \nAre you ready for a transformative journey that connects you to deeper parts of yourself and facilitates powerful healing? Join me every Thursday at 6:00 PM for the Breathwork Breakthrough Experience\, a 60-minute trauma-informed breathwork session designed to release emotional residue\, move stuck energy\, and invite personal breakthroughs. \nIn this session\, we’ll work with intentional breath to access deeper layers of your being\, promoting emotional release and transformation. The journey includes carefully guided breath sequences paired with somatic prompts\, gentle music\, and integrative reflection to help you process and integrate your experience. This immersive experience creates the perfect environment to release emotional blocks\, quiet the mind\, and nurture the body and soul. \nWhether you’re new to breathwork or an experienced practitioner\, this space is designed for all levels—no prior experience is required. All you need is a willingness to show up\, breathe\, and allow yourself to experience the healing power of the breath. \nWhat to expect: \n\n\nTrauma-informed approach: Safe and supportive space for healing. \n\n\nGuided breath sequences: Designed to shift energy and promote emotional release. \n\n\nSomatic prompts: Encouraging awareness of body sensations to deepen the experience. \n\n\nGentle music: To enhance relaxation and emotional processing. \n\n\nIntegrative reflection: To support self-awareness and personal breakthroughs. \n\n\nThis is your time to feel\, heal\, and connect to your most authentic self. Come ready to breathe\, release\, and transform. \nEach session is priced at $44\, with no experience necessary—just your willingness to show up and breathe.
URL:https://jenngulbrand.com/event/breathwork-breakthrough-experience-2/
LOCATION:Soul Alignment Studio (Eastham\, MA)\, 3 Main Street Mercantile\, Suite 18B\, Eastham\, MA\, 02642\, United States
CATEGORIES:Soul Alignment Studios
ATTACH;FMTTYPE=image/png:https://jenngulbrand.com/wp-content/uploads/2025/07/Breathwork-Breakthrough.png
END:VEVENT
END:VCALENDAR