BEGIN:VCALENDAR
VERSION:2.0
PRODID:-//Jenn Gulbrand - ECPv6.15.15//NONSGML v1.0//EN
CALSCALE:GREGORIAN
METHOD:PUBLISH
X-ORIGINAL-URL:https://jenngulbrand.com
X-WR-CALDESC:Events for Jenn Gulbrand
REFRESH-INTERVAL;VALUE=DURATION:PT1H
X-Robots-Tag:noindex
X-PUBLISHED-TTL:PT1H
BEGIN:VTIMEZONE
TZID:America/New_York
BEGIN:DAYLIGHT
TZOFFSETFROM:-0500
TZOFFSETTO:-0400
TZNAME:EDT
DTSTART:20240310T070000
END:DAYLIGHT
BEGIN:STANDARD
TZOFFSETFROM:-0400
TZOFFSETTO:-0500
TZNAME:EST
DTSTART:20241103T060000
END:STANDARD
BEGIN:DAYLIGHT
TZOFFSETFROM:-0500
TZOFFSETTO:-0400
TZNAME:EDT
DTSTART:20250309T070000
END:DAYLIGHT
BEGIN:STANDARD
TZOFFSETFROM:-0400
TZOFFSETTO:-0500
TZNAME:EST
DTSTART:20251102T060000
END:STANDARD
BEGIN:DAYLIGHT
TZOFFSETFROM:-0500
TZOFFSETTO:-0400
TZNAME:EDT
DTSTART:20260308T070000
END:DAYLIGHT
BEGIN:STANDARD
TZOFFSETFROM:-0400
TZOFFSETTO:-0500
TZNAME:EST
DTSTART:20261101T060000
END:STANDARD
END:VTIMEZONE
BEGIN:VEVENT
DTSTART;TZID=America/New_York:20250216T090000
DTEND;TZID=America/New_York:20250216T120000
DTSTAMP:20260424T151641
CREATED:20250121T183013Z
LAST-MODIFIED:20250121T190419Z
UID:10000020-1739696400-1739707200@jenngulbrand.com
SUMMARY:Sacred Sound Healing Training
DESCRIPTION:As the pace of life quickens and uncertainty grows\, the need for balance and well-being has never been more important. Sound Therapy is emerging as a powerful tool for healing and transformation\, offering profound benefits for both the body and mind. \nA Sound Bath is an immersive acoustic experience that relaxes the body\, clears the subconscious\, calms the mind\, and activates the body’s natural healing systems. Whether for self-care or as part of your professional energy practice\, sound healing is a versatile modality that can be used on its own or paired with practices like Reiki\, yoga\, massage\, or meditation. \nThis transformative sound healing practitioner training is led by Jenn Gulbrand\, owner of the WeBreathe Wellness Center\, a Spiritual Well-Being Coach and Integrated Energy Healer dedicated to empowering others to heal and thrive. \nWhat You’ll Learn: \n\nThe sacred history and foundational principles of sound and energy healing.\nThe healing power of sound and vibration\, and how energy works within the body.\nAn introduction to sound instruments\, including care tips and sourcing guidanceHands-on practice playing crystal bowls\, gongs\, and other sound tools.\nTechniques for creating your own unique sound healing journeys.\n\nThis workshop includes: \n\nComprehensive training with hands-on practice.\nA detailed workbook to support your continued learning.\nTools and techniques to incorporate sound healing into your personal or professional practice.\n\nInvestment: $444\nClass Size Limited for personalized attention \nUnlock the power of sound to bring balance\, relaxation\, and healing to yourself and others. Reserve your spot today and begin your journey into the transformative world of sound healing.
URL:https://jenngulbrand.com/event/sacred-sound-healing-training-2/
LOCATION:WeBreathe Wellness\, 55 West Street\, Walpole
CATEGORIES:Trainings,Workshops
ATTACH;FMTTYPE=image/png:https://jenngulbrand.com/wp-content/uploads/2025/01/JG-sound-healing-training-1.png
END:VEVENT
END:VCALENDAR